BEGIN:VCALENDAR
VERSION:2.0
PRODID:-//FSV 1912 Dieblich e.V. - ECPv6.15.20//NONSGML v1.0//EN
CALSCALE:GREGORIAN
METHOD:PUBLISH
X-WR-CALNAME:FSV 1912 Dieblich e.V.
X-ORIGINAL-URL:https://fsvdieblich.de
X-WR-CALDESC:Veranstaltungen für FSV 1912 Dieblich e.V.
REFRESH-INTERVAL;VALUE=DURATION:PT1H
X-Robots-Tag:noindex
X-PUBLISHED-TTL:PT1H
BEGIN:VTIMEZONE
TZID:UTC
BEGIN:STANDARD
TZOFFSETFROM:+0000
TZOFFSETTO:+0000
TZNAME:UTC
DTSTART:20240101T000000
END:STANDARD
END:VTIMEZONE
BEGIN:VEVENT
DTSTART;TZID=UTC:20250321T180000
DTEND;TZID=UTC:20250321T200000
DTSTAMP:20260419T155739
CREATED:20241114T132410Z
LAST-MODIFIED:20241114T132410Z
UID:2433-1742580000-1742587200@fsvdieblich.de
SUMMARY:Jahreshauptversammlung FSV Dieblich 1912 e.V.
DESCRIPTION:
URL:https://fsvdieblich.de/event/jahreshauptversammlung-fsv-dieblich-1912-e-v/
CATEGORIES:Veranstaltungen
END:VEVENT
END:VCALENDAR