BEGIN:VCALENDAR
VERSION:2.0
PRODID:-//FSV 1912 Dieblich e.V. - ECPv6.15.20//NONSGML v1.0//EN
CALSCALE:GREGORIAN
METHOD:PUBLISH
X-ORIGINAL-URL:https://fsvdieblich.de
X-WR-CALDESC:Veranstaltungen für FSV 1912 Dieblich e.V.
REFRESH-INTERVAL;VALUE=DURATION:PT1H
X-Robots-Tag:noindex
X-PUBLISHED-TTL:PT1H
BEGIN:VTIMEZONE
TZID:UTC
BEGIN:STANDARD
TZOFFSETFROM:+0000
TZOFFSETTO:+0000
TZNAME:UTC
DTSTART:20240101T000000
END:STANDARD
END:VTIMEZONE
BEGIN:VEVENT
DTSTART;VALUE=DATE:20250516
DTEND;VALUE=DATE:20250517
DTSTAMP:20260419T132702
CREATED:20241114T132514Z
LAST-MODIFIED:20241114T132514Z
UID:2437-1747353600-1747439999@fsvdieblich.de
SUMMARY:Don-Häns-Cup 2025
DESCRIPTION:
URL:https://fsvdieblich.de/event/don-haens-cup-2025/
CATEGORIES:Veranstaltungen
END:VEVENT
END:VCALENDAR