BEGIN:VCALENDAR
VERSION:2.0
PRODID:-//FSV 1912 Dieblich e.V. - ECPv6.15.20//NONSGML v1.0//EN
CALSCALE:GREGORIAN
METHOD:PUBLISH
X-ORIGINAL-URL:https://fsvdieblich.de
X-WR-CALDESC:Veranstaltungen für FSV 1912 Dieblich e.V.
REFRESH-INTERVAL;VALUE=DURATION:PT1H
X-Robots-Tag:noindex
X-PUBLISHED-TTL:PT1H
BEGIN:VTIMEZONE
TZID:UTC
BEGIN:STANDARD
TZOFFSETFROM:+0000
TZOFFSETTO:+0000
TZNAME:UTC
DTSTART:20230101T000000
END:STANDARD
END:VTIMEZONE
BEGIN:VEVENT
DTSTART;TZID=UTC:20240607T170000
DTEND;TZID=UTC:20240607T220000
DTSTAMP:20260421T130350
CREATED:20240117T095644Z
LAST-MODIFIED:20240403T124304Z
UID:1835-1717779600-1717797600@fsvdieblich.de
SUMMARY:Don Häns Cup
DESCRIPTION:Don Häns-Cup der Alten Herren
URL:https://fsvdieblich.de/event/don-haens-cup/
LOCATION:Don Häns Cup\, Sportplatz Dieblich
CATEGORIES:Veranstaltungen
ATTACH;FMTTYPE=image/png:https://fsvdieblich.de/wp-content/uploads/2024/04/DonHaensCup.png
END:VEVENT
BEGIN:VEVENT
DTSTART;TZID=UTC:20240615T110000
DTEND;TZID=UTC:20240615T160000
DTSTAMP:20260421T130350
CREATED:20240429T181510Z
LAST-MODIFIED:20250407T112044Z
UID:2234-1718449200-1718467200@fsvdieblich.de
SUMMARY:Volleyball-Dorfmeisterschaft
DESCRIPTION:Volleyball-Dorfmeisterschaft am 15.6.24 ab 11 Uhr in der Mosellandhalle.
URL:https://fsvdieblich.de/event/volleyball-dorfmeisterschaft/
LOCATION:Mosellandhalle Dieblich
CATEGORIES:Veranstaltungen
ATTACH;FMTTYPE=image/png:https://fsvdieblich.de/wp-content/uploads/2025/04/Volleyball-Dorfmeisterschaft-2025.png
END:VEVENT
BEGIN:VEVENT
DTSTART;TZID=UTC:20240622T140000
DTEND;TZID=UTC:20240622T233000
DTSTAMP:20260421T130350
CREATED:20240515T125616Z
LAST-MODIFIED:20240515T125616Z
UID:2277-1719064800-1719099000@fsvdieblich.de
SUMMARY:Fußball-Dorfmeisterschaft 2024
DESCRIPTION:Einladung zur Fußball-Dorfmeisterschaft des FSV 1912 Dieblich e.V. am 22.06.2024.
URL:https://fsvdieblich.de/event/fussball-dorfmeisterschaft-2024/
LOCATION:Sportplatz Dieblich\, Sportplatz Dieblich
CATEGORIES:Veranstaltungen
ATTACH;FMTTYPE=image/jpeg:https://fsvdieblich.de/wp-content/uploads/2024/05/DM24.jpg
END:VEVENT
END:VCALENDAR